BEGIN:VCALENDAR
PRODID:-//eluceo/ical//2.0/EN
VERSION:2.0
CALSCALE:GREGORIAN
BEGIN:VEVENT
UID:47c8615f462a7f906b50b2112e2ec49f
DTSTAMP:20260425T124713Z
SUMMARY:AG-möte
DESCRIPTION:
URL:https://rotary2355.se/sv/agenda/show/189805
DTSTART;TZID=Europe/Zurich:20220302T183000
DTEND;TZID=Europe/Zurich:20220302T210000
LOCATION: Sommarvägen 20\nTäby\n
CATEGORIES:Rotary
END:VEVENT
BEGIN:VTIMEZONE
TZID:Europe/Zurich
BEGIN:STANDARD
DTSTART:20220302T183000
TZNAME:CET
TZOFFSETTO:+0100
TZOFFSETFROM:+0100
END:STANDARD
END:VTIMEZONE
END:VCALENDAR
